BEGIN:VCALENDAR
VERSION:2.0
PRODID:-//Tukios.com/
BEGIN:VEVENT
UID:738fd15c-6876-4ad8-a20e-60eba9b519ed@www.hawkinsfuneralhome.com
DTSTAMP:20260422T023909Z
DTSTART:20260427T180000Z
DTEND:20260427T190000Z
SUMMARY:Visitation
DESCRIPTION:
URL:https://www.hawkinsfuneralhome.com/obituaries/william-lance-parker
LOCATION:Hawkins Funeral Home 1909 9th Street  Bridgeport TX 76426
GEO:33.2202995;-97.7593472
END:VEVENT
END:VCALENDAR