BEGIN:VCALENDAR
VERSION:2.0
PRODID:-//Tukios.com/
BEGIN:VEVENT
UID:e7e47e28-7e9d-4277-8f63-cb5286a66677@www.hawkinsfuneralhome.com
DTSTAMP:20260422T023619Z
DTSTART:20260427T190000Z
DTEND:20260427T200000Z
SUMMARY:Burial
DESCRIPTION:
URL:https://www.hawkinsfuneralhome.com/obituaries/william-lance-parker
LOCATION:Thomas Cemetery 886 CR 1326  Bridgeport TX 76426
GEO:33.2538979;-97.7308586
END:VEVENT
END:VCALENDAR