BEGIN:VCALENDAR
VERSION:2.0
PRODID:-//Tukios.com/
BEGIN:VEVENT
UID:c776e873-5e82-4700-a5d3-42aeefb1a33a@www.hawkinsfuneralhome.com
DTSTAMP:20260422T023603Z
DTSTART:20260427T190000Z
DTEND:20260427T200000Z
SUMMARY:Funeral Service
DESCRIPTION:
URL:https://www.hawkinsfuneralhome.com/obituaries/william-lance-parker
LOCATION: 1909 9th Street  Bridgeport TX 76426
GEO:33.2202995;-97.7593472
END:VEVENT
END:VCALENDAR