BEGIN:VCALENDAR
VERSION:2.0
PRODID:-//Tukios.com/
BEGIN:VEVENT
UID:47ad122d-830c-4c0a-b03c-c7fcbf5c44b9@www.hawkinsfuneralhome.com
DTSTAMP:20260425T000019Z
DTSTART:20260501T163000Z
DTEND:20260501T173000Z
SUMMARY:Graveside Service
DESCRIPTION:
URL:https://www.hawkinsfuneralhome.com/obituaries/terry-reynolds
LOCATION: 280 County Road 3743  Bridgeport TX 76426
GEO:33.0679962;-97.8641781
END:VEVENT
END:VCALENDAR