BEGIN:VCALENDAR
VERSION:2.0
PRODID:-//Tukios.com/
BEGIN:VEVENT
UID:775e09d9-0128-44cf-bf8a-783f40f46ad6@www.hawkinsfuneralhome.com
DTSTAMP:20260425T000137Z
DTSTART:20260501T150000Z
DTEND:20260501T160000Z
SUMMARY:Visitation
DESCRIPTION:
URL:https://www.hawkinsfuneralhome.com/obituaries/terry-reynolds
LOCATION: 1909 9th Street  Bridgeport TX 76426
GEO:33.2202995;-97.7593472
END:VEVENT
END:VCALENDAR