BEGIN:VCALENDAR
VERSION:2.0
PRODID:-//Tukios.com/
BEGIN:VEVENT
UID:ed8337ad-45ce-4aec-98ef-ec8eb6c6ab71@www.hawkinsfuneralhome.com
DTSTAMP:20260424T011146Z
DTSTART:20260428
SUMMARY:Burial
DESCRIPTION:
URL:https://www.hawkinsfuneralhome.com/obituaries/roy-steel
LOCATION:   Paradise TX 76073
GEO:33.150118;-97.6872521
END:VEVENT
END:VCALENDAR