BEGIN:VCALENDAR
VERSION:2.0
PRODID:-//Tukios.com/
BEGIN:VEVENT
UID:63140973-1c27-4aa9-aeab-0eb726c2ce88@www.hawkinsfuneralhome.com
DTSTAMP:20260424T010905Z
DTSTART:20260428T190000Z
DTEND:20260428T200000Z
SUMMARY:Funeral Service
DESCRIPTION:
URL:https://www.hawkinsfuneralhome.com/obituaries/roy-steel
LOCATION:    Paradise TX 76073
GEO:33.150118;-97.6872521
END:VEVENT
END:VCALENDAR