BEGIN:VCALENDAR
VERSION:2.0
PRODID:-//Tukios.com/
BEGIN:VEVENT
UID:a7fa0cac-4846-4c9b-a155-776625655ad1@www.hawkinsfuneralhome.com
DTSTAMP:20260424T010945Z
DTSTART:20260427T230000Z
DTEND:20260428T010000Z
SUMMARY:Visitation
DESCRIPTION:
URL:https://www.hawkinsfuneralhome.com/obituaries/roy-steel
LOCATION: 1909 9th St  Bridgeport TX 76426
GEO:33.2202995;-97.7593472
END:VEVENT
END:VCALENDAR