BEGIN:VCALENDAR
VERSION:2.0
PRODID:-//Tukios.com/
BEGIN:VEVENT
UID:f060683b-c9a5-4572-9082-7a9f0a71a80d@www.hawkinsfuneralhome.com
DTSTAMP:20260421T233743Z
DTSTART:20260423T190000Z
DTEND:20260423T200000Z
SUMMARY:Funeral Service
DESCRIPTION:
URL:https://www.hawkinsfuneralhome.com/obituaries/perry-reid
LOCATION: 100 S Ewing St  Boyd TX 76023
GEO:33.0785464;-97.5675116
END:VEVENT
END:VCALENDAR