BEGIN:VCALENDAR
VERSION:2.0
PRODID:-//Tukios.com/
BEGIN:VEVENT
UID:9ceda011-7b02-4e3f-bd84-38524de85eef@www.hawkinsfuneralhome.com
DTSTAMP:20260421T233853Z
DTSTART:20260423T180000Z
DTEND:20260423T190000Z
SUMMARY:Visitation
DESCRIPTION:
URL:https://www.hawkinsfuneralhome.com/obituaries/perry-reid
LOCATION: 100 S Ewing St  Boyd TX 76023
GEO:33.0785464;-97.5675116
END:VEVENT
END:VCALENDAR