BEGIN:VCALENDAR
VERSION:2.0
PRODID:-//Tukios.com/
BEGIN:VEVENT
UID:8fb55774-70c1-41db-98ba-ce918e3f9f9a@www.hawkinsfuneralhome.com
DTSTAMP:20260424T185156Z
DTSTART:20260509T180000Z
DTEND:20260509T190000Z
SUMMARY:Memorial Service
DESCRIPTION:
URL:https://www.hawkinsfuneralhome.com/obituaries/misty-drake
LOCATION: 405 E Main St  Decatur TX 76234
GEO:33.2343417;-97.582403
END:VEVENT
END:VCALENDAR