BEGIN:VCALENDAR
VERSION:2.0
PRODID:-//Tukios.com/
BEGIN:VEVENT
UID:8bf18504-f00d-41c5-8c21-eb8144394699@www.hawkinsfuneralhome.com
DTSTAMP:20260424T202752Z
DTSTART:20260428T171500Z
DTEND:20260428T181500Z
SUMMARY:Interment
DESCRIPTION:
URL:https://www.hawkinsfuneralhome.com/obituaries/margie-young
LOCATION: 465 Cemetery Road  Decatur TX 76234
GEO:33.2588383;-97.5741556
END:VEVENT
END:VCALENDAR