BEGIN:VCALENDAR
VERSION:2.0
PRODID:-//Tukios.com/
BEGIN:VEVENT
UID:b5d009f4-e867-402b-bac8-a61959843058@www.hawkinsfuneralhome.com
DTSTAMP:20260424T202735Z
DTSTART:20260428T160000Z
DTEND:20260428T170000Z
SUMMARY:Funeral Service
DESCRIPTION:
URL:https://www.hawkinsfuneralhome.com/obituaries/margie-young
LOCATION: 405 E Main St  Decatur TX 76234
GEO:33.2343417;-97.582403
END:VEVENT
END:VCALENDAR