BEGIN:VCALENDAR
VERSION:2.0
PRODID:-//Tukios.com/
BEGIN:VEVENT
UID:65862456-fbf8-4510-9a72-3891021dd057@www.hawkinsfuneralhome.com
DTSTAMP:20260424T202255Z
DTSTART:20260428T150000Z
DTEND:20260428T160000Z
SUMMARY:Visitation
DESCRIPTION:
URL:https://www.hawkinsfuneralhome.com/obituaries/margie-young
LOCATION: 405 E Main St  Decatur TX 76234
GEO:33.2343417;-97.582403
END:VEVENT
END:VCALENDAR