BEGIN:VCALENDAR
VERSION:2.0
PRODID:-//Tukios.com/
BEGIN:VEVENT
UID:ee371836-e448-4c89-bc69-acb81b1f423e@www.hawkinsfuneralhome.com
DTSTAMP:20260423T203738Z
DTSTART:20260425T160000Z
DTEND:20260425T170000Z
SUMMARY:Funeral Service
DESCRIPTION:
URL:https://www.hawkinsfuneralhome.com/obituaries/lorenella-cooper
LOCATION: 405 E Main St  Decatur TX 76234
GEO:33.2343417;-97.582403
END:VEVENT
END:VCALENDAR