BEGIN:VCALENDAR
VERSION:2.0
PRODID:-//Tukios.com/
BEGIN:VEVENT
UID:fb128ec7-a1f6-4bed-ae24-a6bb9b361292@www.hawkinsfuneralhome.com
DTSTAMP:20260423T204041Z
DTSTART:20260424T230000Z
DTEND:20260425T003000Z
SUMMARY:Visitation
DESCRIPTION:
URL:https://www.hawkinsfuneralhome.com/obituaries/lorenella-cooper
LOCATION: 405 E Main St  Decatur TX 76234
GEO:33.2343417;-97.582403
END:VEVENT
END:VCALENDAR